BEGIN:VCALENDAR
VERSION:2.0
PRODID:-//Fundación Hispano Británica FHB
CALSCALE:GREGORIAN
METHOD:PUBLISH
X-WR-CALNAME:Fundación Hispano Británica FHB
X-ORIGINAL-URL:https://fundacionhispanobritanica.org/ticket/exposicion-almirante-lobo-malagamba/
X-WR-CALDESC:EXPOSICIÓN «Almirante Lobo Malagamba»
BEGIN:VEVENT
DTSTART;TZID=Europe/Paris:20210902T000000
DTEND;TZID=Europe/Paris:20210925T000000
SUMMARY:EXPOSICIÓN «Almirante Lobo Malagamba»
DESCRIPTION:EXPOSICIÓN

<hr />

<h2><span style="color: #000080;">MUSEO NAVAL DE FERROL</span></h2>
<h3><strong><span style="color: #bd0808;">ALMIRANTE LOBO MALAGAMBA</span></strong></h3>
<span style="color: #bd0808;">Bicentenario de su nacimiento 1821 - 2021</span>

&nbsp;

Con motivo de la conmemoración del bicentenario del nacimiento del Almirante Lobo Malagamba, el Museo Naval de Ferrol acogerá una exposición temporal monográfica dedicada al ilustre marino que podrá visitarse del 2 al 25 de septiembre de 2021. Su inauguración está prevista para el día 1.

&nbsp;

La Fundación Hispano Británica es una de las instituciones que colaboran en los actos conmemorativos de este Bicentenario.

&nbsp;
<div class="btn-evento-seguir-leyendo"><a href="https://fundacionhispanobritanica.org/exposicion-almirante-lobo-malagamba-en-el-museo-naval-de-ferrol/" target="_blank" rel="noopener noreferrer">Seguir leyendo en nuestra entrada de blog</a></div>
<div></div>
<div></div>
URL:https://fundacionhispanobritanica.org/ticket/exposicion-almirante-lobo-malagamba/
LOCATION:Museo Naval de Ferrol 
END:VEVENT
END:VCALENDAR
