BEGIN:VCALENDAR
VERSION:2.0
PRODID:-//Fundación Hispano Británica FHB
CALSCALE:GREGORIAN
METHOD:PUBLISH
X-WR-CALNAME:Fundación Hispano Británica FHB
X-ORIGINAL-URL:https://fundacionhispanobritanica.org/ticket/asamblea-general/
X-WR-CALDESC:Asamblea General
BEGIN:VEVENT
DTSTART;TZID=Europe/Paris:20260325T190000
DTEND;TZID=Europe/Paris:20260325T210000
SUMMARY:Asamblea General
DESCRIPTION:<h2><span style="color: #375e74;">ASAMBLEA GENERAL INFORMATIVA</span></h2>
<div></div>
<div>

&nbsp;

</div>
<div></div>
<div></div>
<div></div>
&nbsp;
URL:https://fundacionhispanobritanica.org/ticket/asamblea-general/
LOCATION:
END:VEVENT
END:VCALENDAR
