BEGIN:VCALENDAR
VERSION:2.0
PRODID:-//Fundación Hispano Británica FHB
CALSCALE:GREGORIAN
METHOD:PUBLISH
X-WR-CALNAME:Fundación Hispano Británica FHB
X-ORIGINAL-URL:https://fundacionhispanobritanica.org/ticket/catolicos-en-la-inglaterra-isabelina-resistencia-y-supervivencia/
X-WR-CALDESC:Católicos en la Inglaterra isabelina: resistencia y supervivencia
BEGIN:VEVENT
DTSTART;TZID=Europe/Paris:20260423T190000
DTEND;TZID=Europe/Paris:20260423T203000
SUMMARY:Católicos en la Inglaterra isabelina: resistencia y supervivencia
DESCRIPTION:<strong><span style="color: #375e74;">«CATÓLICOS EN LA INGLATERRA ISABELINA: RESISTENCIA Y SUPERVIVENCIA»</span></strong>

<hr />

&nbsp;

Conferencia a cargo del historiador especialista en Historia Moderna:

<strong>D. JOSÉ MIGUEL CABAÑAS AGRELA</strong>

<em>(Amigo de la Fundación Hispano Británica)</em>

&nbsp;

<hr />

&nbsp;

¿Cuál fue el origen de la persecución a los católicos?¿Cómo se organizó la resistencia de los católicos?¿Cómo consiguieron sobrevivir?

El reinado de Isabel I empezó con una inicial tolerancia. ¿Qué ocurrió para que se persiguiera el catolicismo? Recordemos que en la Europa del siglo XVI se obligaba a que los pueblos acataran la religión de su soberano.

&nbsp;

<hr />

&nbsp;

Jueves 23 de abril, 19:00 h

Real Casino de Madrid

C/ Alcalá, 15

&nbsp;

<hr />

&nbsp;

<strong>ENTRADA LIBRE HASTA COMPLETAR AFORO</strong>

<em><span style="color: #993366;">No se permiten vaqueros ni calzado deportivo. Señores: chaqueta y corbata.</span></em>
URL:https://fundacionhispanobritanica.org/ticket/catolicos-en-la-inglaterra-isabelina-resistencia-y-supervivencia/
LOCATION:Real Casino de Madrid
END:VEVENT
END:VCALENDAR
