BEGIN:VCALENDAR
VERSION:2.0
PRODID:-//Fundación Hispano Británica FHB
CALSCALE:GREGORIAN
METHOD:PUBLISH
X-WR-CALNAME:Fundación Hispano Británica FHB
X-ORIGINAL-URL:https://fundacionhispanobritanica.org/ticket/los-39-escalones-mantoverde/
X-WR-CALDESC:«Los 39 escalones / Mantoverde»
BEGIN:VEVENT
DTSTART;TZID=Europe/Paris:20251126T190000
DTEND;TZID=Europe/Paris:20251126T211500
SUMMARY:«Los 39 escalones / Mantoverde»
DESCRIPTION:<h3><span style="color: #375e74;">PRESENTACIÓN DEL LIBRO</span></h3>

<hr />

📖 LOS 39 ESCALONES / MANTOVERDE

🖋️ Autor de la edición
EDUARDO VALLS OYARZUN

<hr />

📆 Miércoles 26 de noviembre de 2025

📍 British Council – Edificio Palacete
Pº. del Gral. Martínez Campos, 31 – 28010 Madrid

⏰ 19:00 h – 21:15 h

🥂 Al término de la presentación se ofrecerá una copa de cava VALLFORMOSA

<hr />

Asistencia libre hasta completar aforo.

AFORO LIMITADO (35 personas máx.)

Las plazas se asignarán por orden de registro.

<hr />

<strong>IMPRESCINDIBLE REGISTRO PREVIO</strong>

PARA ASISTIR &gt;&gt; <a href="https://forms.gle/dt2AtKGjYyHSe3af7">REGISTRARSE AQUÍ</a>
URL:https://fundacionhispanobritanica.org/ticket/los-39-escalones-mantoverde/
LOCATION:British Council, Edificio Palacete, Paseo del General Martínez Campos, Madrid, España
END:VEVENT
END:VCALENDAR
