BEGIN:VCALENDAR
VERSION:2.0
PRODID:-//Fundación Hispano Británica FHB
CALSCALE:GREGORIAN
METHOD:PUBLISH
X-WR-CALNAME:Fundación Hispano Británica FHB
X-ORIGINAL-URL:https://fundacionhispanobritanica.org/ticket/tea-time-talks-by-fhb-4/
X-WR-CALDESC:«TEA TIME TALKS» by FHB
BEGIN:VEVENT
DTSTART;TZID=Europe/Paris:20240614T173000
DTEND;TZID=Europe/Paris:20240614T200000
SUMMARY:«TEA TIME TALKS» by FHB
DESCRIPTION:<h2><span style="color: #375e74;">TEA TIME TALKS </span></h2>
<h4><span style="color: #375e74;">by FHB</span></h4>
<div style="text-align: center;">

🇪🇸 Disfrutaremos del tradicional
Afternoon English Tea
en el exclusivo
<em><strong>HOTEL HERITAGE MADRID</strong></em>,
en compañía de
<em><strong>MIGUEL CABAÑAS AGRELA</strong></em>

&nbsp;

Tertulia:
<em>"Don Bernardino de Mendoza,</em>
<em>Embajador de Felipe II en Inglaterra</em>
<em>y agente secreto del catolicismo"</em>

__________________

🇬🇧 We will enjoy a traditional
Afternoon English Tea
in the exclusive
<em><strong>HERITAGE HOTEL MADRID</strong></em>
in the company of
<em><strong>MIGUEL CABAÑAS AGRELA</strong></em>

&nbsp;

Talk:
<em>"Don Bernardino de Mendoza,</em>
<em>Philip II's Ambassador to England</em>
<em>and secret agent of Catholicism"</em>

</div>
<div></div>
<div style="text-align: center;"></div>
<div></div>

<hr />

<strong>MIGUEL CABAÑAS AGRELA</strong>

Nacido en Madrid en 1965. Licenciado en Geografía e Historia por la Universidad Complutense. Cursos de doctorado y Tesina con la que obtuvo el premio Layna Serrano de investigación histórica 1999 por la Diputación de Guadalajara, estando publicada con el nombre: "Don Bernardino de Mendoza, un escritor soldado al servicio de la monarquía católica".

&nbsp;

<strong>Especializado en</strong>

<hr />

La figura de Don Bernardino de Mendoza, embajador y espía al servicio de España y la causa católica durante el conflicto religioso que dividió a Europa en la segunda mitad del siglo XVI. Fue el embajador de Felipe II en Inglaterra entre 1578 y 1584, habiendo sido expulsado por la reina inglesa por haber conspirado con los católicos de aquel reino para deponer a la reina Isabel y a todo su gobierno e intentar poner en su lugar en el trono a María Estuardo. Luego pasó a ser embajador en Francia entre 1585 y 1591, favoreciendo a la causa católica de aquel reino en su guerra contra los hugonotes. Felipe II confió grandemente en él y en sus actividades conspiratorias para acabar con el régimen protestante en Inglaterra.

&nbsp;

<strong>Publicaciones</strong>

<hr />

Además de numerosos artículos en revistas especializadas de Historia como La Aventura de la Historia y en periódicos como ABC, y la investigación y redacción de hasta 22 biografías de personajes del reinado de Felipe II en el Diccionario Biográfico Español de la Real Academia de la Historia, tiene tres monografías publicadas: "Reyes sodomitas", Editorial Egales 2012, "Breve Historia de Cervantes", Editorial Nowtilus, 2016, "Breve Historia de Felipe II", Editorial Nowtilus, 2017.

&nbsp;
<div>
<div>

<hr />

<div></div>
<div class=""><strong>HERITAGE HOTEL MADRID</strong></div>
<div></div>
<div class="">

🇪🇸 HOTEL HERITAGE MADRID, uno de los mejores hoteles del Barrio de Salamanca, un oasis en el corazón de Madrid.

El edificio protegido que alberga este hotel de 5 estrellas fue construido a principios del siglo XX y decorado en estilo belle-époque. Su inmaculada fachada, su cálida decoración interior y una magnífica colección de antigüedades y obras de arte europeas de los siglos XVIII y XIX conjugan con gusto el clasicismo con el entorno urbano.

Al frente de su RESTAURANTE HAROMA, el chef, dos estrellas Michelín, Mario Sandoval Huertas, eleva los mejores ingredientes a través de su cocina ecléctica y sofisticada.

&nbsp;

<hr />

&nbsp;

🇬🇧 HERITAGE HOTEL MADRID, one of the best hotels in Madrid's Salamanca district, an oasis in the heart of Madrid.

The listed building that houses this 5-star hotel was built in the early 20th century and decorated in belle-époque style. Its immaculate façade, warm interior decoration and a magnificent collection of 18th and 19th century European antiques and works of art tastefully marry classicism with the urban environment.

At the helm of HAROMA RESTAURANT, two Michelin-starred chef Mario Sandoval Huertas elevates the finest ingredients through his eclectic and sophisticated cuisine.

&nbsp;

</div>
</div>
<div>

<hr />

</div>
</div>
<div>
<div>

&nbsp;
<div class=""><span class=""><strong class="">TRADITIONAL ENGLISH TEA </strong></span></div>
<div class=""><span class="">🇬🇧 It includes the classic English tea,<br class="" />served with mini sandwiches, pastries and scones.<br class="" />In addition, accompanied with </span></div>
<div class=""><span class="">cava de VALLFORMOSA.</span></div>
<div class=""><span class="">__________________</span></div>
<div class=""></div>
<div class=""><span class="">🇪🇸 Incluye el clásico té inglés,<br class="" />servido con mini sándwiches, repostería y scones.<br class="" />Además, acompañado con </span></div>
<div class=""><span class="">cava de VALLFORMOSA.</span></div>
</div>
<div></div>
</div>
<div></div>
<div></div>
&nbsp;
URL:https://fundacionhispanobritanica.org/ticket/tea-time-talks-by-fhb-4/
LOCATION:Relais & Châteaux Heritage Madrid Hotel ® - WEB OFICIAL, Calle de Diego de León, Madrid, España
END:VEVENT
END:VCALENDAR
