BEGIN:VCALENDAR
VERSION:2.0
PRODID:-//Fundación Hispano Británica FHB
CALSCALE:GREGORIAN
METHOD:PUBLISH
X-WR-CALNAME:Fundación Hispano Británica FHB
X-ORIGINAL-URL:https://fundacionhispanobritanica.org/ticket/fhb-christmas-carols%e3%83%bbcharity/
X-WR-CALDESC:FHB CHRISTMAS CAROLS・CHARITY
BEGIN:VEVENT
DTSTART;TZID=Europe/Paris:20231213T200000
DTEND;TZID=Europe/Paris:20231213T210000
SUMMARY:FHB CHRISTMAS CAROLS・CHARITY
DESCRIPTION:<h3><span style="color: #375e74;"><span class="OYPEnA text-decoration-none text-strikethrough-none">CHRISTMAS CAROLS</span></span></h3>
<a href="https://forms.gle/FTvqyCMiDCiAoZtb9" target="_blank" rel="noopener noreferrer">Reserva de entradas &gt;&gt; aquí</a>
<div class="page" title="Page 1">
<div class="section">
<div class="layoutArea">
<div class="column">

<hr />

Soprano · Reyes Moraleda

Pianista · Manuel Burgueras

Violinista · Mario Lli

<hr />

</div>
</div>
</div>
</div>
<strong><span style="color: #375e74;">CONCIERTO BENÉFICO・CHARITY</span></strong>

La Fundación Hispano Británica organiza este Concierto de Navidad en favor de la Real Hermandad del Refugio con la generosa colaboración de la soprano Reyes Moraleda.

<hr />

<strong>MIÉRCOLES</strong>

<strong>13 DICIEMBRE 2023</strong>

<strong>20:00 H</strong>
<div>

SAN ANTONIO DE LOS ALEMANES

<hr />

</div>
<div><strong>PRECIO POR PERSONA </strong>
(Amigos FHB y Acompañantes)</div>
<div><strong>Entrada General:15 €
Entrada Preferente(*):20 €</strong></div>
<h6><em>(*) En los primeros bancos</em></h6>
<div>

<hr />

</div>
<div><strong>AFORO LIMITADO</strong>
RESERVA DE ENTRADAS
<strong>antes del 11 de diciembre a las 24:00 h</strong>
(Las entradas se asignarán por orden de reserva
con preferencia para los Amigos FHB)</div>
URL:https://fundacionhispanobritanica.org/ticket/fhb-christmas-carols%e3%83%bbcharity/
LOCATION:Iglesia de San Antonio de los Alemanes, Calle de la Puebla, Madrid, España
END:VEVENT
END:VCALENDAR
