BEGIN:VCALENDAR
VERSION:2.0
PRODID:-//Fundación Hispano Británica FHB
CALSCALE:GREGORIAN
METHOD:PUBLISH
X-WR-CALNAME:Fundación Hispano Británica FHB
X-ORIGINAL-URL:https://fundacionhispanobritanica.org/ticket/recepcion-de-verano-fhb/
X-WR-CALDESC:Recepción de verano FHB
BEGIN:VEVENT
DTSTART;TZID=Europe/Paris:20220621T203000
DTEND;TZID=Europe/Paris:20220621T230000
SUMMARY:Recepción de verano FHB
DESCRIPTION:<h3><span style="color: #375e74;">Recepción de la Fundación Hispano Británica </span><span style="color: #375e74;">en la residencia del Embajador británico en España</span></h3>

<hr />

<em><strong>Martes 21 de junio de 2022 - 20:30 PM</strong></em>

<em>Av. de Miraflores, 23</em>
<em>28035 Madrid</em>

<hr />

CONTROL DE ACCESO<br class="" />SE REQUIERE INVITACIÓN OFICIAL

<hr />

<div></div>
<div class="btn-evento-seguir-leyendo"><a href="https://fundacionhispanobritanica.org/recepcion-de-verano-2022/" target="_blank" rel="noopener noreferrer">Fotos de RECUERDO &gt;&gt; aquí </a><i class="fas fa-external-link-alt" style="margin-left: 10px; font-size: 10px;"></i></div>
<div></div>
<div>

&nbsp;

</div>
<div></div>
<div></div>
<div></div>
&nbsp;
URL:https://fundacionhispanobritanica.org/ticket/recepcion-de-verano-fhb/
LOCATION:Av. de Miraflores, 23, Madrid, España
END:VEVENT
END:VCALENDAR
